BEGIN:VCALENDAR
VERSION:2.0
PRODID:-//Commune de Cepoy - ECPv6.15.20//NONSGML v1.0//EN
CALSCALE:GREGORIAN
METHOD:PUBLISH
X-WR-CALNAME:Commune de Cepoy
X-ORIGINAL-URL:https://www.ville-cepoy.fr
X-WR-CALDESC:Évènements pour Commune de Cepoy
REFRESH-INTERVAL;VALUE=DURATION:PT1H
X-Robots-Tag:noindex
X-PUBLISHED-TTL:PT1H
BEGIN:VTIMEZONE
TZID:Europe/Paris
BEGIN:DAYLIGHT
TZOFFSETFROM:+0100
TZOFFSETTO:+0200
TZNAME:CEST
DTSTART:20250330T010000
END:DAYLIGHT
BEGIN:STANDARD
TZOFFSETFROM:+0200
TZOFFSETTO:+0100
TZNAME:CET
DTSTART:20251026T010000
END:STANDARD
BEGIN:DAYLIGHT
TZOFFSETFROM:+0100
TZOFFSETTO:+0200
TZNAME:CEST
DTSTART:20260329T010000
END:DAYLIGHT
BEGIN:STANDARD
TZOFFSETFROM:+0200
TZOFFSETTO:+0100
TZNAME:CET
DTSTART:20261025T010000
END:STANDARD
BEGIN:DAYLIGHT
TZOFFSETFROM:+0100
TZOFFSETTO:+0200
TZNAME:CEST
DTSTART:20270328T010000
END:DAYLIGHT
BEGIN:STANDARD
TZOFFSETFROM:+0200
TZOFFSETTO:+0100
TZNAME:CET
DTSTART:20271031T010000
END:STANDARD
END:VTIMEZONE
BEGIN:VEVENT
DTSTART;TZID=Europe/Paris:20260426T090000
DTEND;TZID=Europe/Paris:20260426T150000
DTSTAMP:20260425T142104
CREATED:20260303T145546Z
LAST-MODIFIED:20260320T161350Z
UID:35232-1777194000-1777215600@www.ville-cepoy.fr
SUMMARY:Balade gourmande - Comité des Fêtes
DESCRIPTION:COMPLET \nDimanche 26 avril à 9h \nLe Comité des Fêtes organise la balade gourmande le dimanche 26 avril. Le départ aura lieu à 9h depuis la mairie de Cepoy. \nIl y aura un premier arrêt café\, puis un autre pour l’apéritif\, une pour le repas et enfin pour le café gourmand. \nInscriptions au 06 89 46 30 70 – 18€ par personne
URL:https://www.ville-cepoy.fr/evenement/balade-gourmande-comite-des-fetes/
LOCATION:Mairie de Cepoy\, 11 Avenue du chateau\, CEPOY\, 45120
ATTACH;FMTTYPE=image/jpeg:https://www.ville-cepoy.fr/wp-content/uploads/2020/01/pique-nique.jpg
ORGANIZER;CN="Comit%C3%A9 des f%C3%AAtes de Cepoy":MAILTO:comitedesfetes.cepoy@gmail.com
END:VEVENT
BEGIN:VEVENT
DTSTART;TZID=Europe/Paris:20260429T200000
DTEND;TZID=Europe/Paris:20260429T213000
DTSTAMP:20260425T142104
CREATED:20260420T153003Z
LAST-MODIFIED:20260423T131311Z
UID:35287-1777492800-1777498200@www.ville-cepoy.fr
SUMMARY:Réunion du Conseil Municipal
DESCRIPTION:La prochaine réunion du Conseil Municipal aura lieu le mercredi 29 avril à 20h dans la salle du Conseil en mairie.
URL:https://www.ville-cepoy.fr/evenement/reunion-du-conseil-municipal-2/
LOCATION:Mairie de Cepoy\, 11 Avenue du chateau\, CEPOY\, 45120
ATTACH;FMTTYPE=image/jpeg:https://www.ville-cepoy.fr/wp-content/uploads/2025/06/mariane-scaled.jpg
ORGANIZER;CN="Mairie de Cepoy":MAILTO:communication@ville-cepoy.fr
END:VEVENT
BEGIN:VEVENT
DTSTART;TZID=Europe/Paris:20260508T163000
DTEND;TZID=Europe/Paris:20260508T193000
DTSTAMP:20260425T142104
CREATED:20260324T151529Z
LAST-MODIFIED:20260324T151656Z
UID:35311-1778257800-1778268600@www.ville-cepoy.fr
SUMMARY:Marché de producteurs de mai
DESCRIPTION:Vendredi 8 mai sur le parking de la Girafe \nLe marché des producteurs est de retour ! \n\nLe marché\n\nle 1er vendredi de chaque mois\nde 16h30 à 19h30\nsur le parking de la Girafe (à côté du cabinet médical)\n\n\nTous nos producteurs habituels\n\nLes Jardins de Bréau : fruits et légumes\nLa Petite Bergerie de Montereau : fromage de brebis\nLa Ferme de Petereau de Girolles : œufs de poules élevées en plein air\nRucher des 4 Vallées de Rozoy-le-vieil : miel\, confiseries\, pâtisseries\nLolaland Créations de Chevillon-sur-Huillard: objets réutilisables en tissus\nL’Atelier du Pain du Moulin de Cepoy : boulangerie\nLes délices de Caron de Triguères : produits du terroir\, salaison\nLa brasserie Roguish Monkey de Beaune-la-Rolande : bières artisanales\nL’Huilerie de Gondreville : huiles et farine\nLaeti’tes plantes buissonnières de Montereau : plantes aromatiques et médicales\nLe Comptoir du cacao de Bazoches-sur-le-Betz : chocolat\nLes Petits plaisirs de la Selle-sur-le-Bied : biscuits\nAuvray Paysage de Gondreville : plantes et fleurs\nCharcutier Ludovic de Pannes : charcuterie traiteur\nLes bougies d’Alice de Cepoy : bougies artisanales\nL’EARL Roussial de Nancray-sur-Rimarde : légumes secs\nLa Fée Bouillotte de Cepoy : bouillotte au graines de lin\nSantinell Impex de Souppes-sur-Loing : sucre de canne et tisanes\nAu cœur de la cuisine de Fontenay-sur-Loing : food truck de plats traditionnels\nLes cagouilles de Cornou de Nargis : escargots\n\nEt certainement bien d’autres à découvrir ! \n\nToutes les dates\n\n8 mai\n5 juin\n3 juillet\n4 septembre\n2 octobre\n\n 
URL:https://www.ville-cepoy.fr/evenement/marche-de-producteurs-de-mai/
LOCATION:Parking de la Girafe\, 24 avenue du Château\, Cepoy\, 45120\, France
ATTACH;FMTTYPE=image/jpeg:https://www.ville-cepoy.fr/wp-content/uploads/2024/05/mise-en-avant.jpg
ORGANIZER;CN="Mairie de Cepoy":MAILTO:communication@ville-cepoy.fr
END:VEVENT
BEGIN:VEVENT
DTSTART;VALUE=DATE:20260510
DTEND;VALUE=DATE:20260511
DTSTAMP:20260425T142104
CREATED:20260320T162717Z
LAST-MODIFIED:20260320T162717Z
UID:35303-1778371200-1778457599@www.ville-cepoy.fr
SUMMARY:Triathlon - J3 Triathlon
DESCRIPTION:Dimanche 10 mai à l’étang de Cepoy \nLe J3 Triathlon organise des épreuves de duathlon et triathlon en solo\, duo ou trio ainsi qu’un cross duathlon pour les jeunes. \nInscriptions en ligne ici > https://www.protiming.fr/Runnings/detail/8170-Triathlon-de-l-AME
URL:https://www.ville-cepoy.fr/evenement/triathlon-j3-triathlon/
LOCATION:Etangs de Cepoy\, Rue des Sablières\, Cepoy\, 45120\, France
ATTACH;FMTTYPE=image/jpeg:https://www.ville-cepoy.fr/wp-content/uploads/2019/04/cotame-triathlon-2.jpg
END:VEVENT
BEGIN:VEVENT
DTSTART;TZID=Europe/Paris:20260515T230000
DTEND;TZID=Europe/Paris:20260517T090000
DTSTAMP:20260425T142104
CREATED:20260303T150617Z
LAST-MODIFIED:20260303T150617Z
UID:35234-1778886000-1779008400@www.ville-cepoy.fr
SUMMARY:Journée à Amsterdam - Association des Jeunes
DESCRIPTION:L’Association des Jeunes de Cepoy organise une sortie à Amsterdam du 15 au 17 mai.
URL:https://www.ville-cepoy.fr/evenement/journee-a-amsterdam-association-des-jeunes/
ATTACH;FMTTYPE=image/jpeg:https://www.ville-cepoy.fr/wp-content/uploads/2026/03/amsterdam.jpg
ORGANIZER;CN="Association des Jeunes de Cepoy":MAILTO:gulli.josephine@orange.fr
END:VEVENT
BEGIN:VEVENT
DTSTART;VALUE=DATE:20260523
DTEND;VALUE=DATE:20260524
DTSTAMP:20260425T142104
CREATED:20260423T144139Z
LAST-MODIFIED:20260423T144139Z
UID:35457-1779494400-1779580799@www.ville-cepoy.fr
SUMMARY:Journée amicale de pêche au poisson chat - La Carpe de Cepoy
DESCRIPTION:sur l’étang de Puy-la-Laude
URL:https://www.ville-cepoy.fr/evenement/journee-amicale-de-peche-au-poisson-chat-la-carpe-de-cepoy/
LOCATION:Etangs de Cepoy\, Rue des Sablières\, Cepoy\, 45120\, France
ATTACH;FMTTYPE=image/jpeg:https://www.ville-cepoy.fr/wp-content/uploads/2025/07/87a6ef67-b75a-4e2e-8496-cdef5e0c22ae.jpg
ORGANIZER;CN="Carpe de Cepoy":MAILTO:frot.daniel@orange.fr
END:VEVENT
BEGIN:VEVENT
DTSTART;TZID=Europe/Paris:20260607T063000
DTEND;TZID=Europe/Paris:20260607T190000
DTSTAMP:20260425T142104
CREATED:20260421T140554Z
LAST-MODIFIED:20260421T140554Z
UID:35436-1780813800-1780858800@www.ville-cepoy.fr
SUMMARY:Sortie à Terra Botanica - AJC
DESCRIPTION:Dimanche 7 juin – Sortie à Terra Botanic à Angers avec l’Association des Jeunes de Cepoy \n \n\nRéservez votre place dans le bus et votre billet d’entrée avant le 30 avril auprès de Joséphine au 06 72 93 89 81\n\n\n\n 
URL:https://www.ville-cepoy.fr/evenement/sortie-a-terra-botanica-ajc/
ATTACH;FMTTYPE=image/jpeg:https://www.ville-cepoy.fr/wp-content/uploads/2026/04/terra-botanica-1.jpg
ORGANIZER;CN="Association des Jeunes de Cepoy":MAILTO:gulli.josephine@orange.fr
END:VEVENT
BEGIN:VEVENT
DTSTART;TZID=Europe/Paris:20260807T100000
DTEND;TZID=Europe/Paris:20260807T160000
DTSTAMP:20260425T142104
CREATED:20260219T154014Z
LAST-MODIFIED:20260219T154014Z
UID:35110-1786096800-1786118400@www.ville-cepoy.fr
SUMMARY:Journée découverte pêche au coup - Fédération départementale de Pêche
DESCRIPTION:
URL:https://www.ville-cepoy.fr/evenement/journee-decouverte-peche-au-coup-federation-departementale-de-peche/
LOCATION:Quai de Vaussel\, quai de vaussel\, Cepoy\, 45120\, France Métropolitaine
ATTACH;FMTTYPE=image/jpeg:https://www.ville-cepoy.fr/wp-content/uploads/2020/07/IMG_5728-scaled.jpg
END:VEVENT
END:VCALENDAR